BEGIN:VCALENDAR
VERSION:2.0
PRODID:-//eventon.com NONSGML v1.0//EN
CALSCALE:GREGORIAN
METHOD:PUBLISH
BEGIN:VEVENT
UID:69ead2bebfef5
DTSTAMP:20260424T021734
DTSTART:20250315T103000Z
DTEND:20250315T200000Z
TZID:America/Bahia
LOCATION:ESPAÇO PESSOA Alameda Gênova\,  253 - Pituba
SUMMARY:Neuroliderança e Alta Performance
DESCRIPTION: O Equilíbrio como estratégia de sucesso. Neurociência e técnicas corporais juntas elevando sua liderança.\nhttps://aflorargestao.com.br/eventos/neurolideranca-e-alta-performance/
URL:https://aflorargestao.com.br/eventos/neurolideranca-e-alta-performance/
END:VEVENT
END:VCALENDAR